BEGIN:VCALENDAR
VERSION:2.0
PRODID:-//Ignite Dance Co. - ECPv5.2.1//NONSGML v1.0//EN
CALSCALE:GREGORIAN
METHOD:PUBLISH
X-WR-CALNAME:Ignite Dance Co.
X-ORIGINAL-URL:https://ignitedanceco.com.au
X-WR-CALDESC:Events for Ignite Dance Co.
BEGIN:VTIMEZONE
TZID:Australia/Melbourne
BEGIN:STANDARD
TZOFFSETFROM:+1100
TZOFFSETTO:+1000
TZNAME:AEST
DTSTART:20160402T160000
END:STANDARD
BEGIN:DAYLIGHT
TZOFFSETFROM:+1000
TZOFFSETTO:+1100
TZNAME:AEDT
DTSTART:20161001T160000
END:DAYLIGHT
END:VTIMEZONE
BEGIN:VEVENT
DTSTART;TZID=Australia/Melbourne:20160520T190000
DTEND;TZID=Australia/Melbourne:20160520T230000
DTSTAMP:20210226T073603
CREATED:20160511T123133Z
LAST-MODIFIED:20160511T123133Z
UID:514-1463770800-1463785200@ignitedanceco.com.au
SUMMARY:Parents Dinner
DESCRIPTION:
URL:https://ignitedanceco.com.au/event/parents-dinner/
END:VEVENT
END:VCALENDAR