BEGIN:VCALENDAR
VERSION:2.0
PRODID:-//Ignite Dance Co. - ECPv5.2.1//NONSGML v1.0//EN
CALSCALE:GREGORIAN
METHOD:PUBLISH
X-WR-CALNAME:Ignite Dance Co.
X-ORIGINAL-URL:https://ignitedanceco.com.au
X-WR-CALDESC:Events for Ignite Dance Co.
BEGIN:VTIMEZONE
TZID:Australia/Melbourne
BEGIN:STANDARD
TZOFFSETFROM:+1100
TZOFFSETTO:+1000
TZNAME:AEST
DTSTART:20160402T160000
END:STANDARD
BEGIN:DAYLIGHT
TZOFFSETFROM:+1000
TZOFFSETTO:+1100
TZNAME:AEDT
DTSTART:20161001T160000
END:DAYLIGHT
END:VTIMEZONE
BEGIN:VEVENT
DTSTART;VALUE=DATE:20160514
DTEND;VALUE=DATE:20160515
DTSTAMP:20210226T073545
CREATED:20160511T015518Z
LAST-MODIFIED:20160511T015518Z
UID:502-1463184000-1463270399@ignitedanceco.com.au
SUMMARY:Family Fun Day Form Due
DESCRIPTION:
URL:https://ignitedanceco.com.au/event/family-fun-day-form-due/
END:VEVENT
END:VCALENDAR