BEGIN:VCALENDAR
VERSION:2.0
PRODID:-//Ignite Dance Co. - ECPv5.2.1//NONSGML v1.0//EN
CALSCALE:GREGORIAN
METHOD:PUBLISH
X-WR-CALNAME:Ignite Dance Co.
X-ORIGINAL-URL:https://ignitedanceco.com.au
X-WR-CALDESC:Events for Ignite Dance Co.
BEGIN:VTIMEZONE
TZID:Australia/Melbourne
BEGIN:STANDARD
TZOFFSETFROM:+1100
TZOFFSETTO:+1000
TZNAME:AEST
DTSTART:20160402T160000
END:STANDARD
BEGIN:DAYLIGHT
TZOFFSETFROM:+1000
TZOFFSETTO:+1100
TZNAME:AEDT
DTSTART:20161001T160000
END:DAYLIGHT
END:VTIMEZONE
BEGIN:VEVENT
DTSTART;TZID=Australia/Melbourne:20160724T080000
DTEND;TZID=Australia/Melbourne:20160724T170000
DTSTAMP:20210226T072747
CREATED:20160719T140056Z
LAST-MODIFIED:20160720T043049Z
UID:566-1469347200-1469379600@ignitedanceco.com.au
SUMMARY:EEE- Soloists
DESCRIPTION:12.25pm: Antonella Contemporary \n6.55pm: Antonella Hip Hop \n7.40pm: Jacinta Jazz
URL:https://ignitedanceco.com.au/event/eee-soloists/
END:VEVENT
END:VCALENDAR