BEGIN:VCALENDAR
VERSION:2.0
PRODID:-//Ignite Dance Co. - ECPv5.2.1//NONSGML v1.0//EN
CALSCALE:GREGORIAN
METHOD:PUBLISH
X-WR-CALNAME:Ignite Dance Co.
X-ORIGINAL-URL:https://ignitedanceco.com.au
X-WR-CALDESC:Events for Ignite Dance Co.
BEGIN:VTIMEZONE
TZID:Australia/Melbourne
BEGIN:STANDARD
TZOFFSETFROM:+1100
TZOFFSETTO:+1000
TZNAME:AEST
DTSTART:20160402T160000
END:STANDARD
BEGIN:DAYLIGHT
TZOFFSETFROM:+1000
TZOFFSETTO:+1100
TZNAME:AEDT
DTSTART:20161001T160000
END:DAYLIGHT
END:VTIMEZONE
BEGIN:VEVENT
DTSTART;TZID=Australia/Melbourne:20160813T080000
DTEND;TZID=Australia/Melbourne:20160813T170000
DTSTAMP:20210226T073044
CREATED:20160720T042410Z
LAST-MODIFIED:20160720T042410Z
UID:574-1471075200-1471107600@ignitedanceco.com.au
SUMMARY:Dance Classique Eisteddfod - Soloists
DESCRIPTION:Alyssa Improv. \nAlyssa Jazz & Hip Hop
URL:https://ignitedanceco.com.au/event/dance-classique-eisteddfod-soloists-3/
END:VEVENT
END:VCALENDAR